BEGIN:VCALENDAR
VERSION:2.0
PRODID:-//Dorpshuis De Hoeksteen - ECPv6.15.17.1//NONSGML v1.0//EN
CALSCALE:GREGORIAN
METHOD:PUBLISH
X-ORIGINAL-URL:https://dehoeksteen-noordlaren.nl
X-WR-CALDESC:Evenementen voor Dorpshuis De Hoeksteen
REFRESH-INTERVAL;VALUE=DURATION:PT1H
X-Robots-Tag:noindex
X-PUBLISHED-TTL:PT1H
BEGIN:VTIMEZONE
TZID:Europe/Amsterdam
BEGIN:DAYLIGHT
TZOFFSETFROM:+0100
TZOFFSETTO:+0200
TZNAME:CEST
DTSTART:20240331T010000
END:DAYLIGHT
BEGIN:STANDARD
TZOFFSETFROM:+0200
TZOFFSETTO:+0100
TZNAME:CET
DTSTART:20241027T010000
END:STANDARD
BEGIN:DAYLIGHT
TZOFFSETFROM:+0100
TZOFFSETTO:+0200
TZNAME:CEST
DTSTART:20250330T010000
END:DAYLIGHT
BEGIN:STANDARD
TZOFFSETFROM:+0200
TZOFFSETTO:+0100
TZNAME:CET
DTSTART:20251026T010000
END:STANDARD
BEGIN:DAYLIGHT
TZOFFSETFROM:+0100
TZOFFSETTO:+0200
TZNAME:CEST
DTSTART:20260329T010000
END:DAYLIGHT
BEGIN:STANDARD
TZOFFSETFROM:+0200
TZOFFSETTO:+0100
TZNAME:CET
DTSTART:20261025T010000
END:STANDARD
END:VTIMEZONE
BEGIN:VEVENT
DTSTART;TZID=Europe/Amsterdam:20250901T190000
DTEND;TZID=Europe/Amsterdam:20250901T220000
DTSTAMP:20260424T090533
CREATED:20250710T095715Z
LAST-MODIFIED:20250710T095848Z
UID:1020-1756753200-1756764000@dehoeksteen-noordlaren.nl
SUMMARY:Salsa lessen in De Hoeksteen
DESCRIPTION: Salsa in Noordlaren! \nVanaf maandag 1 september 2025 verzorgt El Son Cubano wekelijkse salsa lessen op maandagavond in De Hoeksteen. \nElke maandag\, kun je salsa leren van de authentieke Cubaanse danser Jorge Gómez.\nWe bieden drie opeenvolgende lesmomenten aan\, afgestemd op verschillende niveaus: \n Wanneer? \n\n\n🕖 19:00 – Salsa Beginners 2 \n\n\n🕗 20:00 – Salsa Beginners 1 \n\n\n🕘 21:00 – Salsa Absolute Beginners (voor deelnemers zonder danservaring) \n\n\nMis deze kans niet! \n\n\n\n\n\n\n\n\n\n\n\n\n\nVoor meer informatie bel 0640106476 of stuur een mail naar info@elsoncubano.nl
URL:https://dehoeksteen-noordlaren.nl/evenementen/salsa-lessen-in-de-hoeksteen/
LOCATION:Dorpshuis de Hoeksteen\, Lageweg 45A\, Groningen\, Noordlaren\, 9479PA\, Netherlands
ATTACH;FMTTYPE=image/jpeg:https://dehoeksteen-noordlaren.nl/wp-content/uploads/2025/07/WhatsApp-Image-2025-07-09-at-22.47.48.jpeg
END:VEVENT
END:VCALENDAR