BEGIN:VCALENDAR
VERSION:2.0
PRODID:-//Dorpshuis De Hoeksteen - ECPv6.15.17.1//NONSGML v1.0//EN
CALSCALE:GREGORIAN
METHOD:PUBLISH
X-ORIGINAL-URL:https://dehoeksteen-noordlaren.nl
X-WR-CALDESC:Evenementen voor Dorpshuis De Hoeksteen
REFRESH-INTERVAL;VALUE=DURATION:PT1H
X-Robots-Tag:noindex
X-PUBLISHED-TTL:PT1H
BEGIN:VTIMEZONE
TZID:Europe/Amsterdam
BEGIN:DAYLIGHT
TZOFFSETFROM:+0100
TZOFFSETTO:+0200
TZNAME:CEST
DTSTART:20240331T010000
END:DAYLIGHT
BEGIN:STANDARD
TZOFFSETFROM:+0200
TZOFFSETTO:+0100
TZNAME:CET
DTSTART:20241027T010000
END:STANDARD
BEGIN:DAYLIGHT
TZOFFSETFROM:+0100
TZOFFSETTO:+0200
TZNAME:CEST
DTSTART:20250330T010000
END:DAYLIGHT
BEGIN:STANDARD
TZOFFSETFROM:+0200
TZOFFSETTO:+0100
TZNAME:CET
DTSTART:20251026T010000
END:STANDARD
BEGIN:DAYLIGHT
TZOFFSETFROM:+0100
TZOFFSETTO:+0200
TZNAME:CEST
DTSTART:20260329T010000
END:DAYLIGHT
BEGIN:STANDARD
TZOFFSETFROM:+0200
TZOFFSETTO:+0100
TZNAME:CET
DTSTART:20261025T010000
END:STANDARD
END:VTIMEZONE
BEGIN:VEVENT
DTSTART;TZID=Europe/Amsterdam:20251115T200000
DTEND;TZID=Europe/Amsterdam:20251115T233000
DTSTAMP:20260424T090638
CREATED:20251016T112043Z
LAST-MODIFIED:20251016T112558Z
UID:1253-1763236800-1763249400@dehoeksteen-noordlaren.nl
SUMMARY:Salsa feest
DESCRIPTION:Salsa feest in de Hoeksteen\n				Na het succes van de eerste editie keert het salsa feest terug naar ons dorpshuis! Op vrijdag 15 november verandert de zaal opnieuw in een bruisende dansvloer\, georganiseerd door de dansschool die elke maandag bij ons lesgeeft. \nVan 20:00 tot 01:00 kun je genieten van een avond vol Latijns-Amerikaanse sfeer\, ritme en energie. Het programma bestaat uit een workshop om lekker in te komen\, gevolgd door een dansshow. Daarna draait de DJ door tot in de late uurtjes. \nOf je nu danservaring hebt of gewoon zin hebt in een leuke avond uit\, iedereen is welkom! Kom dansen\, kijken\, genieten en vooral: meedoen! \nZien we je daar?
URL:https://dehoeksteen-noordlaren.nl/evenementen/salsa-feest/
LOCATION:Groningen
END:VEVENT
END:VCALENDAR