BEGIN:VCALENDAR
VERSION:2.0
PRODID:-//Dorpshuis De Hoeksteen - ECPv6.15.17.1//NONSGML v1.0//EN
CALSCALE:GREGORIAN
METHOD:PUBLISH
X-WR-CALNAME:Dorpshuis De Hoeksteen
X-ORIGINAL-URL:https://dehoeksteen-noordlaren.nl
X-WR-CALDESC:Evenementen voor Dorpshuis De Hoeksteen
REFRESH-INTERVAL;VALUE=DURATION:PT1H
X-Robots-Tag:noindex
X-PUBLISHED-TTL:PT1H
BEGIN:VTIMEZONE
TZID:Europe/Amsterdam
BEGIN:DAYLIGHT
TZOFFSETFROM:+0100
TZOFFSETTO:+0200
TZNAME:CEST
DTSTART:20250330T010000
END:DAYLIGHT
BEGIN:STANDARD
TZOFFSETFROM:+0200
TZOFFSETTO:+0100
TZNAME:CET
DTSTART:20251026T010000
END:STANDARD
BEGIN:DAYLIGHT
TZOFFSETFROM:+0100
TZOFFSETTO:+0200
TZNAME:CEST
DTSTART:20260329T010000
END:DAYLIGHT
BEGIN:STANDARD
TZOFFSETFROM:+0200
TZOFFSETTO:+0100
TZNAME:CET
DTSTART:20261025T010000
END:STANDARD
BEGIN:DAYLIGHT
TZOFFSETFROM:+0100
TZOFFSETTO:+0200
TZNAME:CEST
DTSTART:20270328T010000
END:DAYLIGHT
BEGIN:STANDARD
TZOFFSETFROM:+0200
TZOFFSETTO:+0100
TZNAME:CET
DTSTART:20271031T010000
END:STANDARD
END:VTIMEZONE
BEGIN:VEVENT
DTSTART;TZID=Europe/Amsterdam:20260201T100000
DTEND;TZID=Europe/Amsterdam:20260201T150000
DTSTAMP:20260424T083323
CREATED:20260115T145319Z
LAST-MODIFIED:20260115T145319Z
UID:1639-1769940000-1769958000@dehoeksteen-noordlaren.nl
SUMMARY:Noordlaren muziek
DESCRIPTION:Zanger Philippe Elan treedt op 1 feb. in de plaats van het optreden van Britta Maria en Maurits Fondse met hun programma ‘Heb het Leven Lief’. Een ode aan Liesbeth List\, dat op 25 januari zou plaatsvinden\, maar moest worden geannuleerd wegens ziekte van een van de musici. Noordlaren Muziek prijst zich gelukkig dat de kans zich voordeed om op zo korte termijn dit min of meer verwante liedprogramma te kunnen aanbieden.\n Philippe Elan werd geboren in Frankrijk en is vanaf 1986 in Nederland komen wonen. In dat jaar maakte hij meteen een vliegende start door het chanson-concours van de Alliance Française te winnen. Sindsdien is hij een veel geroemde vertolker van het Franse chanson\, waarmee hij jaar na jaar in de theaters is te zien. Hij treedt en trad op met artiesten als Cor Bakker\, Louis van Dijk\, Liesbeth List en Laura Fygi. Sinds 2013 concerteert Philippe ook met het Amstel Quartet\, een beroemde saxofoonformatie die uitvoeringen geeft over de hele wereld. Naast zijn samenwerking met jazz- en popmuzikanten heeft hij ook vaak opgetreden op klassieke podia\, onder andere samen met Holland Symfonia\, Het Gemini Ensemble en de Johan Willem Friso Kapel
URL:https://dehoeksteen-noordlaren.nl/evenementen/noordlaren-muziek/
LOCATION:Bartholomeus kerk\, Lageweg 8\, Noordlaren\, Groningen\, Netherlands
ATTACH;FMTTYPE=image/jpeg:https://dehoeksteen-noordlaren.nl/wp-content/uploads/2025/10/NOORDLAREN-MUZIEK-Flyer-10-25-scaled.jpg
ORGANIZER;CN="Noordlaren Muziek":MAILTO:noordlarenmuziek@gmail.com
END:VEVENT
END:VCALENDAR