BEGIN:VCALENDAR
VERSION:2.0
PRODID:-//Dorpshuis De Hoeksteen - ECPv6.15.17.1//NONSGML v1.0//EN
CALSCALE:GREGORIAN
METHOD:PUBLISH
X-WR-CALNAME:Dorpshuis De Hoeksteen
X-ORIGINAL-URL:https://dehoeksteen-noordlaren.nl
X-WR-CALDESC:Evenementen voor Dorpshuis De Hoeksteen
REFRESH-INTERVAL;VALUE=DURATION:PT1H
X-Robots-Tag:noindex
X-PUBLISHED-TTL:PT1H
BEGIN:VTIMEZONE
TZID:Europe/Amsterdam
BEGIN:DAYLIGHT
TZOFFSETFROM:+0100
TZOFFSETTO:+0200
TZNAME:CEST
DTSTART:20250330T010000
END:DAYLIGHT
BEGIN:STANDARD
TZOFFSETFROM:+0200
TZOFFSETTO:+0100
TZNAME:CET
DTSTART:20251026T010000
END:STANDARD
BEGIN:DAYLIGHT
TZOFFSETFROM:+0100
TZOFFSETTO:+0200
TZNAME:CEST
DTSTART:20260329T010000
END:DAYLIGHT
BEGIN:STANDARD
TZOFFSETFROM:+0200
TZOFFSETTO:+0100
TZNAME:CET
DTSTART:20261025T010000
END:STANDARD
BEGIN:DAYLIGHT
TZOFFSETFROM:+0100
TZOFFSETTO:+0200
TZNAME:CEST
DTSTART:20270328T010000
END:DAYLIGHT
BEGIN:STANDARD
TZOFFSETFROM:+0200
TZOFFSETTO:+0100
TZNAME:CET
DTSTART:20271031T010000
END:STANDARD
END:VTIMEZONE
BEGIN:VEVENT
DTSTART;TZID=Europe/Amsterdam:20260607T143000
DTEND;TZID=Europe/Amsterdam:20260607T173000
DTSTAMP:20260425T154147
CREATED:20260413T122948Z
LAST-MODIFIED:20260413T123041Z
UID:1793-1780842600-1780853400@dehoeksteen-noordlaren.nl
SUMMARY:Benefiet concert
DESCRIPTION:Op zondag 7 juni geeft Hilde Vos een bijzonder benefietconcert in de prachtige Bartholomeuskerk in Noordlaren. Tijdens deze middag is Arjan van der Linde\, special guest. Verder vergezellen bandleden zoals singer songwriter irobertweston ons deze middag. \nSamen brengen zij een sfeervol en inspirerend muzikaal programma. 2 concerten in 1 middag! \nMet dit concert wordt geld ingezameld voor Stichting MJM Ecuador. Deze stichting zet zich in voor mensen in Ecuador die in moeilijk omstandigheden leven. Door middel van kleinschalige projecten ondersteunt de stichting onder andere kinderen en gezinnen met onderwijs\, basisvoorzieningen en praktische hulp\, zodat zij meer kansen krijgen voor een betere toekomst. \nOm 14.00 uur is iedereen welkom in De Hoeksteen om een drankje te doen voor het concert aan (consumptiebonnen af te halen bij de kerk op vertoon van je reservering). Ook in de pauze om 15.15 uur ben je van harte welkom. Na afloop is De Hoeksteen tot 17.30 uur beschikbaar. \nReserveer je tickets via: info@hildevos.com
URL:https://dehoeksteen-noordlaren.nl/evenementen/benefiet-concert/
LOCATION:Bartholomeus kerk\, Lageweg 8\, Noordlaren\, Groningen\, Netherlands
ATTACH;FMTTYPE=image/jpeg:https://dehoeksteen-noordlaren.nl/wp-content/uploads/2026/04/Concert-7-juni.jpeg
END:VEVENT
END:VCALENDAR