BEGIN:VCALENDAR
VERSION:2.0
PRODID:-//Dorpshuis De Hoeksteen - ECPv6.15.17.1//NONSGML v1.0//EN
CALSCALE:GREGORIAN
METHOD:PUBLISH
X-ORIGINAL-URL:https://dehoeksteen-noordlaren.nl
X-WR-CALDESC:Evenementen voor Dorpshuis De Hoeksteen
REFRESH-INTERVAL;VALUE=DURATION:PT1H
X-Robots-Tag:noindex
X-PUBLISHED-TTL:PT1H
BEGIN:VTIMEZONE
TZID:Europe/Amsterdam
BEGIN:DAYLIGHT
TZOFFSETFROM:+0100
TZOFFSETTO:+0200
TZNAME:CEST
DTSTART:20240331T010000
END:DAYLIGHT
BEGIN:STANDARD
TZOFFSETFROM:+0200
TZOFFSETTO:+0100
TZNAME:CET
DTSTART:20241027T010000
END:STANDARD
BEGIN:DAYLIGHT
TZOFFSETFROM:+0100
TZOFFSETTO:+0200
TZNAME:CEST
DTSTART:20250330T010000
END:DAYLIGHT
BEGIN:STANDARD
TZOFFSETFROM:+0200
TZOFFSETTO:+0100
TZNAME:CET
DTSTART:20251026T010000
END:STANDARD
BEGIN:DAYLIGHT
TZOFFSETFROM:+0100
TZOFFSETTO:+0200
TZNAME:CEST
DTSTART:20260329T010000
END:DAYLIGHT
BEGIN:STANDARD
TZOFFSETFROM:+0200
TZOFFSETTO:+0100
TZNAME:CET
DTSTART:20261025T010000
END:STANDARD
END:VTIMEZONE
BEGIN:VEVENT
DTSTART;TZID=Europe/Amsterdam:20250415T200000
DTEND;TZID=Europe/Amsterdam:20250415T220000
DTSTAMP:20260414T152002
CREATED:20250404T103616Z
LAST-MODIFIED:20250404T103616Z
UID:953-1744747200-1744754400@dehoeksteen-noordlaren.nl
SUMMARY:Teer Rebelse Stof 2
DESCRIPTION:Op deze avond gaan Dirk Herman de Jong en Aldert Jan in op een aantal gedichten van Heine die door verscheidene componisten op muziek zijn gezet. Deze bijeenkomst is gratis. Consumpties zijn voor eigen rekening.
URL:https://dehoeksteen-noordlaren.nl/evenementen/teer-rebelse-stof-2/
LOCATION:Dorpshuis de Hoeksteen\, Lageweg 45A\, Groningen\, Noordlaren\, 9479PA\, Netherlands
ATTACH;FMTTYPE=image/jpeg:https://dehoeksteen-noordlaren.nl/wp-content/uploads/2025/04/expositie02.jpg
ORGANIZER;CN="Dorpshuis De Hoeksteen":MAILTO:info@dehoeksteen-noordlaren.nl
END:VEVENT
BEGIN:VEVENT
DTSTART;TZID=Europe/Amsterdam:20250411T193000
DTEND;TZID=Europe/Amsterdam:20250411T220000
DTSTAMP:20260414T152002
CREATED:20250401T121340Z
LAST-MODIFIED:20250401T123311Z
UID:937-1744399800-1744408800@dehoeksteen-noordlaren.nl
SUMMARY:FILM-avond
DESCRIPTION:FILM-avond vrijdag 11 april 2025: De acht bergen.
URL:https://dehoeksteen-noordlaren.nl/evenementen/film-avond/
LOCATION:Dorpshuis de Hoeksteen\, Lageweg 45A\, Groningen\, Noordlaren\, 9479PA\, Netherlands
ATTACH;FMTTYPE=image/jpeg:https://dehoeksteen-noordlaren.nl/wp-content/uploads/2025/04/Film-avond-11-april.jpeg
ORGANIZER;CN="Dorpshuis De Hoeksteen":MAILTO:info@dehoeksteen-noordlaren.nl
END:VEVENT
BEGIN:VEVENT
DTSTART;TZID=Europe/Amsterdam:20250408T194500
DTEND;TZID=Europe/Amsterdam:20250408T220000
DTSTAMP:20260414T152002
CREATED:20250401T121140Z
LAST-MODIFIED:20250401T122825Z
UID:932-1744141500-1744149600@dehoeksteen-noordlaren.nl
SUMMARY:Een avond op avontuur
DESCRIPTION:Met Noordlaarder Ruud over zijn zeilreis: 4 jaar op de Stille Oceaan.
URL:https://dehoeksteen-noordlaren.nl/evenementen/een-avond-op-avontuur/
LOCATION:Dorpshuis de Hoeksteen\, Lageweg 45A\, Groningen\, Noordlaren\, 9479PA\, Netherlands
ATTACH;FMTTYPE=image/jpeg:https://dehoeksteen-noordlaren.nl/wp-content/uploads/2025/04/een-avond-op-avontuur.jpeg
ORGANIZER;CN="Dorpshuis De Hoeksteen":MAILTO:info@dehoeksteen-noordlaren.nl
END:VEVENT
BEGIN:VEVENT
DTSTART;TZID=Europe/Amsterdam:20250404T170000
DTEND;TZID=Europe/Amsterdam:20250404T190000
DTSTAMP:20260414T152002
CREATED:20250402T082901Z
LAST-MODIFIED:20250402T082901Z
UID:949-1743786000-1743793200@dehoeksteen-noordlaren.nl
SUMMARY:Happy Hour
DESCRIPTION:Elke eerste vrijdag van de maand van 17 tot 19 uur: Happy Hour! \nJouw eerste drankje is voor rekening van De Hoeksteen 🙂 \n 
URL:https://dehoeksteen-noordlaren.nl/evenementen/happy-hour/
LOCATION:Dorpshuis de Hoeksteen\, Lageweg 45A\, Groningen\, Noordlaren\, 9479PA\, Netherlands
ATTACH;FMTTYPE=image/png:https://dehoeksteen-noordlaren.nl/wp-content/uploads/2025/04/Scherm­afbeelding-2025-04-02-om-10.27.56.png
ORGANIZER;CN="Dorpshuis De Hoeksteen":MAILTO:info@dehoeksteen-noordlaren.nl
END:VEVENT
END:VCALENDAR